BEGIN:VCALENDAR
VERSION:2.0
PRODID:icalendar-ruby
CALSCALE:GREGORIAN
METHOD:PUBLISH
BEGIN:VEVENT
DTSTAMP:20260426T000301Z
UID:6-478110@stlukescambridge.ca
DTSTART:20261025T143000Z
DTEND:20261025T160000Z
CLASS:PUBLIC
CREATED:20260425T180225
DESCRIPTION:
LAST-MODIFIED:20260425T180225
LOCATION:
SUMMARY:Sunday Worship
URL;VALUE=URI:https://www.stlukescambridge.ca/events/sunday-worship/2026-10
 -25
END:VEVENT
END:VCALENDAR
