BEGIN:VCALENDAR
VERSION:2.0
PRODID:icalendar-ruby
CALSCALE:GREGORIAN
METHOD:PUBLISH
BEGIN:VEVENT
DTSTAMP:20260425T181540Z
UID:6-477857@stlukescambridge.ca
DTSTART:20261004T143000Z
DTEND:20261004T160000Z
CLASS:PUBLIC
CREATED:20260425T123935
DESCRIPTION:
LAST-MODIFIED:20260425T123935
LOCATION:
SUMMARY:Sunday Worship
URL;VALUE=URI:https://www.stlukescambridge.ca/events/sunday-worship/2026-10
 -04
END:VEVENT
END:VCALENDAR
