BEGIN:VCALENDAR
VERSION:2.0
PRODID:icalendar-ruby
CALSCALE:GREGORIAN
METHOD:PUBLISH
BEGIN:VEVENT
DTSTAMP:20260425T163631Z
UID:6-477731@stlukescambridge.ca
DTSTART:20260927T143000Z
DTEND:20260927T160000Z
CLASS:PUBLIC
CREATED:20260425T095907
DESCRIPTION:
LAST-MODIFIED:20260425T095907
LOCATION:
SUMMARY:Sunday Worship
URL;VALUE=URI:https://www.stlukescambridge.ca/events/sunday-worship/2026-09
 -27
END:VEVENT
END:VCALENDAR
