BEGIN:VCALENDAR
VERSION:2.0
PRODID:icalendar-ruby
CALSCALE:GREGORIAN
METHOD:PUBLISH
BEGIN:VEVENT
DTSTAMP:20260425T144431Z
UID:6-477730@stlukescambridge.ca
DTSTART:20260920T143000Z
DTEND:20260920T160000Z
CLASS:PUBLIC
CREATED:20260425T095907
DESCRIPTION:
LAST-MODIFIED:20260425T095907
LOCATION:
SUMMARY:Sunday Worship
URL;VALUE=URI:https://www.stlukescambridge.ca/events/sunday-worship/2026-09
 -20
END:VEVENT
END:VCALENDAR
