BEGIN:VCALENDAR
VERSION:2.0
PRODID:icalendar-ruby
CALSCALE:GREGORIAN
METHOD:PUBLISH
BEGIN:VEVENT
DTSTAMP:20260425T125553Z
UID:6-477604@stlukescambridge.ca
DTSTART:20260913T143000Z
DTEND:20260913T160000Z
CLASS:PUBLIC
CREATED:20260425T071748
DESCRIPTION:
LAST-MODIFIED:20260425T071748
LOCATION:
SUMMARY:Sunday Worship
URL;VALUE=URI:https://www.stlukescambridge.ca/events/sunday-worship/2026-09
 -13
END:VEVENT
END:VCALENDAR
